BEGIN:VCALENDAR
VERSION:2.0
PRODID:-//wp-events-plugin.com//7.2.3.1//EN
TZID:Europe/London
X-WR-TIMEZONE:Europe/London
BEGIN:VEVENT
UID:262@busybearsdurham.co.uk
DTSTART;TZID=Europe/London;VALUE=DATE:20220318
DTEND;TZID=Europe/London;VALUE=DATE:20220319
DTSTAMP:20220317T121457Z
URL:https://busybearsdurham.co.uk/events/holi/
SUMMARY:Holi - Festival Of Colours
DESCRIPTION:Holi is also known as the Festival of Colours and is one of the
  grandest and most popular celebrations amongst Hindu people in the UK.
CATEGORIES:Whole Nursery
END:VEVENT
BEGIN:VTIMEZONE
TZID:Europe/London
X-LIC-LOCATION:Europe/London
BEGIN:STANDARD
DTSTART:20211031T010000
TZOFFSETFROM:+0100
TZOFFSETTO:+0000
TZNAME:GMT
END:STANDARD
END:VTIMEZONE
END:VCALENDAR